BEGIN:VCALENDAR
VERSION:2.0
PRODID:-//KDB - ECPv6.15.16//NONSGML v1.0//EN
CALSCALE:GREGORIAN
METHOD:PUBLISH
X-WR-CALNAME:KDB
X-ORIGINAL-URL:https://kdb.go.ke
X-WR-CALDESC:Events for KDB
REFRESH-INTERVAL;VALUE=DURATION:PT1H
X-Robots-Tag:noindex
X-PUBLISHED-TTL:PT1H
BEGIN:VTIMEZONE
TZID:UTC
BEGIN:STANDARD
TZOFFSETFROM:+0000
TZOFFSETTO:+0000
TZNAME:UTC
DTSTART:20170101T000000
END:STANDARD
END:VTIMEZONE
BEGIN:VEVENT
DTSTART;TZID=UTC:20221209T080000
DTEND;TZID=UTC:20221209T170000
DTSTAMP:20260421T153324
CREATED:20210304T031301Z
LAST-MODIFIED:20230612T112616Z
UID:448-1670572800-1670605200@kdb.go.ke
SUMMARY:DRAFT DAIRY REGULATIONS -2020
DESCRIPTION:  \nhttps://www.kdb.go.ke/download-category/policies-laws-regulations/
URL:https://kdb.go.ke/event/draft-dairy-regulations-2020/
LOCATION:Kenya\, Kenya
CATEGORIES:Seminars
ATTACH;FMTTYPE=image/jpeg:https://kdb.go.ke/wp-content/uploads/2023/04/Strategic-1.jpg55-1.jpg
END:VEVENT
BEGIN:VEVENT
DTSTART;TZID=UTC:20220606T080000
DTEND;TZID=UTC:20220606T170000
DTSTAMP:20260421T153324
CREATED:20210304T031217Z
LAST-MODIFIED:20230509T071601Z
UID:447-1654502400-1654534800@kdb.go.ke
SUMMARY:National School Milk Conference June 2022
DESCRIPTION:
URL:https://kdb.go.ke/event/national-school-milk-conference-june-2022/
LOCATION:Kenya\, Kenya
CATEGORIES:Seminars
ATTACH;FMTTYPE=image/jpeg:https://kdb.go.ke/wp-content/uploads/2023/04/Untitled-2.jpg
END:VEVENT
BEGIN:VEVENT
DTSTART;TZID=UTC:20190311T000000
DTEND;TZID=UTC:20190311T000000
DTSTAMP:20260421T153324
CREATED:20210304T030315Z
LAST-MODIFIED:20230509T072034Z
UID:440-1552262400-1552262400@kdb.go.ke
SUMMARY:Stakeholder Consultative Forum on Proposed Dairy Industry Regulations 2019
DESCRIPTION:Kenya Dairy Board is a statutory agency established under the Dairy Industry Act (CAP336) of the Laws of Kenya with the mandate to provide for the improvement and control of the dairy industry and its products. Pursuant to this mandate\, the Board is in the process of improving the Dairy Industry Act Cap 336 by developing a set of dairy regulations that are aligned to the Constitution of Kenya 201o and emerging market challenges.\nIn view of the foregoing\, the Board wishes to invite the public and stakeholders for a Public Participation Forum to be held at Kenya Agricultural and Livestock Research Organization\, located at Kaptagat Road\,Loresho on 11th March \,2019 starting at 8.30 a.m.\nThe proposed Dairy Industry Regulations can be accessed on www.kdb.co.ke.The Board therefore invites stakeholders and the general public to submit any comments they may have on the proposed regulations to the Managing Director\, Kenya Dairy Board P.O Box 30406\,00100\,Nairobi or by mail through regulations@kdb.co.ke by 8th March\,2019 \nTHE MANAGING DIRECTOR\nKENYA DAIRY BOARD
URL:https://kdb.go.ke/event/stakeholder-consultative-forum-on-proposed-dairy-industry-regulations-2019/
LOCATION:KALRO\, Kaptagat Road\, Loresho\, Kenya
CATEGORIES:Seminars
ATTACH;FMTTYPE=image/jpeg:https://kdb.go.ke/wp-content/uploads/2023/04/Untitled-7.jpg
END:VEVENT
BEGIN:VEVENT
DTSTART;TZID=UTC:20190108T080000
DTEND;TZID=UTC:20190111T170000
DTSTAMP:20260421T153324
CREATED:20210317T033032Z
LAST-MODIFIED:20230427T152959Z
UID:515-1546934400-1547226000@kdb.go.ke
SUMMARY:Kabaratonjo Show
DESCRIPTION:
URL:https://kdb.go.ke/event/kabaratonjo-show/
LOCATION:Kabaratonjo\, Kabarnet\, Kenya
CATEGORIES:Seminars
ATTACH;FMTTYPE=image/jpeg:https://kdb.go.ke/wp-content/uploads/2021/03/kabaratonjo.jpg
END:VEVENT
BEGIN:VEVENT
DTSTART;TZID=UTC:20181001T080000
DTEND;TZID=UTC:20190101T170000
DTSTAMP:20260421T153324
CREATED:20210304T031114Z
LAST-MODIFIED:20230509T073343Z
UID:446-1538380800-1546362000@kdb.go.ke
SUMMARY:Nairobi International Trade Fair
DESCRIPTION:BACKGROUND INFORMATION \nTheme: Promoting Innovation and Technology in Agriculture and Trade \nNairobi International Trade Fair (NITF) is the largest Trade Fair in the East African Region. It is a seven day event that runs from late September to early October every year. NITF became a Trade Fair in 2002 and now offers opportunities for regional\, continental and global exhibitors to display and demonstrate their services and products. It also offers show visitors an opportunity to meet people from different countries and backgrounds\, hence creating a platform for interaction and exchanging of ideas and experiences.
URL:https://kdb.go.ke/event/nairobi-international-trade-fair/
LOCATION:ASK Showgrounds\, Jamhuri Park\, Nairobi\, Nairobi\, Kenya
CATEGORIES:Seminars
ATTACH;FMTTYPE=image/jpeg:https://kdb.go.ke/wp-content/uploads/2021/03/Untitled-3.jpg
END:VEVENT
END:VCALENDAR